BEGIN:VCALENDAR
VERSION:2.0
PRODID:spatie/icalendar-generator
DESCRIPTION:Veranstaltungen von RK-Lippstadt
X-WR-CALDESC:Veranstaltungen von RK-Lippstadt
REFRESH-INTERVAL;VALUE=DURATION:PT1440M
X-PUBLISHED-TTL:PT1440M
BEGIN:VTIMEZONE
TZID:Europe/Berlin
BEGIN:STANDARD
DTSTART:20231029T030000Z
TZOFFSETFROM:+0200
TZOFFSETTO:+0100
END:STANDARD
BEGIN:DAYLIGHT
DTSTART:20240331T020000Z
TZOFFSETFROM:+0100
TZOFFSETTO:+0200
END:DAYLIGHT
BEGIN:STANDARD
DTSTART:20241027T030000Z
TZOFFSETFROM:+0200
TZOFFSETTO:+0100
END:STANDARD
END:VTIMEZONE
BEGIN:VTIMEZONE
TZID:UTC
BEGIN:STANDARD
DTSTART:20250728T225824Z
TZOFFSETFROM:+0000
TZOFFSETTO:+0000
END:STANDARD
END:VTIMEZONE
BEGIN:VEVENT
UID:58-16
DTSTAMP:20260424T225824Z
SUMMARY:Gewässer Überquerung mit Bootstour
LOCATION:RK-Gelände Mastholter Straße 177  Lippstadt NRW 59555
ORGANIZER;CN=Reservistenkameradschaft Lippstadt:MAILTO:rk-lippstadt@rk-lipp
 stadt.de
DTSTART;TZID=Europe/Berlin;VALUE=DATE:20240720
DTEND;TZID=Europe/Berlin;VALUE=DATE:20240721
X-ALT-DESC;FMTTYPE=TEXT/HTML:Gewässer Überquerung mit Bootstour Zur Förd
 erung der Kameradschaft werden wir eine Gewässerüberquerung mit Bootstou
 r auf der Lippe durchführen. Diese Veranstaltung ist nur für Mitglieder 
 der RK-Lippstadt und Fördervereinsmitglieder verfügbar ! Änderungen ode
 r Absage vorbehalten! &amp;nbsp\;
CATEGORIES:RK - Intern,  Ausbildung,  Förder-Verein
URL;VALUE=URI:https://rk-lippstadt.de/mc-events/gewaesser-ueberquerung-mit-
 bootstour/
METHOD:PUBLISH
END:VEVENT
END:VCALENDAR