BEGIN:VCALENDAR
VERSION:2.0
PRODID:spatie/icalendar-generator
DESCRIPTION:Veranstaltungen von RK-Lippstadt
X-WR-CALDESC:Veranstaltungen von RK-Lippstadt
REFRESH-INTERVAL;VALUE=DURATION:PT1440M
X-PUBLISHED-TTL:PT1440M
BEGIN:VTIMEZONE
TZID:Europe/Berlin
BEGIN:DAYLIGHT
DTSTART:20240331T020000Z
TZOFFSETFROM:+0100
TZOFFSETTO:+0200
END:DAYLIGHT
BEGIN:STANDARD
DTSTART:20241027T030000Z
TZOFFSETFROM:+0200
TZOFFSETTO:+0100
END:STANDARD
BEGIN:DAYLIGHT
DTSTART:20250330T020000Z
TZOFFSETFROM:+0100
TZOFFSETTO:+0200
END:DAYLIGHT
END:VTIMEZONE
BEGIN:VTIMEZONE
TZID:UTC
BEGIN:STANDARD
DTSTART:20250728T120317Z
TZOFFSETFROM:+0000
TZOFFSETTO:+0000
END:STANDARD
END:VTIMEZONE
BEGIN:VEVENT
UID:27-27
DTSTAMP:20260424T120317Z
SUMMARY:Tag der deutschen Einheit\, Empfang Landrätin
LOCATION:
ORGANIZER;CN=SU Burgdorf:MAILTO:burgdorf.torsten70@gmail.com
DTSTART;TZID=Europe/Berlin;VALUE=DATE:20241003
DTEND;TZID=Europe/Berlin;VALUE=DATE:20241004
X-ALT-DESC;FMTTYPE=TEXT/HTML:Tag der deutschen Einheit\, Empfang Landrätin
  Details werden nachgereicht!
CATEGORIES:RK - Intern
URL;VALUE=URI:https://rk-lippstadt.de/mc-events/tag-der-deutschen-einheit-e
 mpfang-landraetin/
METHOD:PUBLISH
END:VEVENT
END:VCALENDAR