BEGIN:VCALENDAR
VERSION:2.0
PRODID:spatie/icalendar-generator
DESCRIPTION:Veranstaltungen von RK-Lippstadt
X-WR-CALDESC:Veranstaltungen von RK-Lippstadt
REFRESH-INTERVAL;VALUE=DURATION:PT1440M
X-PUBLISHED-TTL:PT1440M
BEGIN:VTIMEZONE
TZID:Europe/Berlin
BEGIN:STANDARD
DTSTART:20251026T030000Z
TZOFFSETFROM:+0200
TZOFFSETTO:+0100
END:STANDARD
BEGIN:DAYLIGHT
DTSTART:20260329T020000Z
TZOFFSETFROM:+0100
TZOFFSETTO:+0200
END:DAYLIGHT
BEGIN:STANDARD
DTSTART:20261025T030000Z
TZOFFSETFROM:+0200
TZOFFSETTO:+0100
END:STANDARD
END:VTIMEZONE
BEGIN:VTIMEZONE
TZID:UTC
BEGIN:STANDARD
DTSTART:20250724T130736Z
TZOFFSETFROM:+0000
TZOFFSETTO:+0000
END:STANDARD
END:VTIMEZONE
BEGIN:VEVENT
UID:107-99
DTSTAMP:20260420T130736Z
SUMMARY:Trainingsmarsch am 25.04.2026 der RK-Lippstadt
LOCATION:RK-Gelände Mastholter Straße 177  Lippstadt NRW 59555
ORGANIZER;CN=Reservistenkameradschaft Lippstadt:MAILTO:rk-lippstadt@rk-lipp
 stadt.de
DTSTART;TZID=Europe/Berlin:20260425T080000
DTEND;TZID=Europe/Berlin:20260425T140000
X-ALT-DESC;FMTTYPE=TEXT/HTML:﻿﻿﻿ Anmeldung über Microsoft Forms. Anm
 eldeformular Trainingsmarsch RK-Lippstadt 25.04.2026 – Formular ausfüll
 en Behörden und Gemeindeverwaltung werden über das Vorhaben in Kenntnis 
 gesetzt. Eintreffen der Teilnehmer ab 08:00 Uhr auf dem Gelände der RK-Li
 ppstadt\, Mastholterstr. 155a\, 59558 Lippstadt/Lipperbruch. Ab 08:30 Uhr 
 vorbereitende Maßnahmen wie Anzugskontrolle und Ausrüstungskontrolle. Ma
 rschverpflegung ist im Rucksack mitzuführen. Start des Marsches 09:00&amp;hel
 lip\;
CATEGORIES:Trainingsmarsch
URL;VALUE=URI:https://rk-lippstadt.de/mc-events/trainingsmarsch-am-25-04-20
 26-der-rk-lippstadt/
METHOD:PUBLISH
END:VEVENT
END:VCALENDAR