BEGIN:VCALENDAR
VERSION:2.0
PRODID:spatie/icalendar-generator
DESCRIPTION:Veranstaltungen von RK-Lippstadt
X-WR-CALDESC:Veranstaltungen von RK-Lippstadt
REFRESH-INTERVAL;VALUE=DURATION:PT1440M
X-PUBLISHED-TTL:PT1440M
BEGIN:VTIMEZONE
TZID:Europe/Berlin
BEGIN:DAYLIGHT
DTSTART:20240331T020000Z
TZOFFSETFROM:+0100
TZOFFSETTO:+0200
END:DAYLIGHT
BEGIN:STANDARD
DTSTART:20241027T030000Z
TZOFFSETFROM:+0200
TZOFFSETTO:+0100
END:STANDARD
BEGIN:DAYLIGHT
DTSTART:20250330T020000Z
TZOFFSETFROM:+0100
TZOFFSETTO:+0200
END:DAYLIGHT
END:VTIMEZONE
BEGIN:VTIMEZONE
TZID:UTC
BEGIN:STANDARD
DTSTART:20250728T135623Z
TZOFFSETFROM:+0000
TZOFFSETTO:+0000
END:STANDARD
END:VTIMEZONE
BEGIN:VEVENT
UID:47-47
DTSTAMP:20260424T135623Z
SUMMARY:Allerheiligen
LOCATION:
ORGANIZER;CN=SU Burgdorf:MAILTO:burgdorf.torsten70@gmail.com
DTSTART;TZID=Europe/Berlin;VALUE=DATE:20241101
DTEND;TZID=Europe/Berlin;VALUE=DATE:20241102
X-ALT-DESC;FMTTYPE=TEXT/HTML:Allerheiligen
CATEGORIES:Feiertag
URL;VALUE=URI:https://rk-lippstadt.de/mc-events/allerheiligen/
METHOD:PUBLISH
END:VEVENT
END:VCALENDAR