BEGIN:VCALENDAR
VERSION:2.0
PRODID:spatie/icalendar-generator
DESCRIPTION:Veranstaltungen von RK-Lippstadt
X-WR-CALDESC:Veranstaltungen von RK-Lippstadt
REFRESH-INTERVAL;VALUE=DURATION:PT1440M
X-PUBLISHED-TTL:PT1440M
BEGIN:VTIMEZONE
TZID:Europe/Berlin
BEGIN:DAYLIGHT
DTSTART:20240331T020000Z
TZOFFSETFROM:+0100
TZOFFSETTO:+0200
END:DAYLIGHT
BEGIN:STANDARD
DTSTART:20241027T030000Z
TZOFFSETFROM:+0200
TZOFFSETTO:+0100
END:STANDARD
BEGIN:DAYLIGHT
DTSTART:20250330T020000Z
TZOFFSETFROM:+0100
TZOFFSETTO:+0200
END:DAYLIGHT
END:VTIMEZONE
BEGIN:VTIMEZONE
TZID:UTC
BEGIN:STANDARD
DTSTART:20250727T084411Z
TZOFFSETFROM:+0000
TZOFFSETTO:+0000
END:STANDARD
END:VTIMEZONE
BEGIN:VEVENT
UID:29-29
DTSTAMP:20260423T084411Z
SUMMARY:Kranzniederlegung zum Volkstrauertag
LOCATION:Hauptfriedhof Lippstadt Am Friedhof  Lippstadt NRW 59555
ORGANIZER;CN=SU Burgdorf:MAILTO:burgdorf.torsten70@gmail.com
DTSTART;TZID=Europe/Berlin:20241117T104500
DTEND;TZID=Europe/Berlin:20241117T133000
X-ALT-DESC;FMTTYPE=TEXT/HTML:<p>\"Leiden zu lindern\, Wunden zu heilen\, ab
 er auch Tote zu ehren\, Verlorene zu beklagen\, bedeutet Abkehr von Hass\,
 <br />\nbedeutet Hinkehr zur Liebe\, und unsere Welt hat die Liebe not.\"<br />\n                                            
                                                  
                                Paul Löbe 1922 im Berliner 
 Reichstag</p>\n
CATEGORIES:Öffentlich
URL;VALUE=URI:https://rk-lippstadt.de/mc-events/kranzniederlegung-zum-volks
 trauertag/
METHOD:PUBLISH
END:VEVENT
END:VCALENDAR